BEGIN:VCALENDAR
VERSION:2.0
PRODID:-//Tukios.com/
BEGIN:VEVENT
UID:362c57b1-15b3-46c6-b884-069c335347dd@www.molthenbell.com
DTSTAMP:20260423T160343Z
DTSTART:20260427T210000Z
DTEND:20260427T223000Z
SUMMARY:Visitation
DESCRIPTION:
URL:https://www.molthenbell.com/obituaries/david-robinson
LOCATION:Molthen-Bell Funeral Home 700 Milwaukee Avenue  South Milwaukee 
	WI 53172
GEO:42.910819;-87.855188
END:VEVENT
END:VCALENDAR