BEGIN:VCALENDAR
VERSION:2.0
PRODID:-//Tukios.com/
BEGIN:VEVENT
UID:a3ef1cd7-5f7d-42ad-9833-c7b44b431a7f@www.molthenbell.com
DTSTAMP:20260423T160343Z
DTSTART:20260427T223000Z
DTEND:20260427T233000Z
SUMMARY:Funeral Service
DESCRIPTION:
URL:https://www.molthenbell.com/obituaries/david-robinson
LOCATION:Molthen-Bell Funeral Home 700 Milwaukee Avenue  South Milwaukee 
	WI 53172
GEO:42.910819;-87.855188
END:VEVENT
END:VCALENDAR