BEGIN:VCALENDAR
VERSION:2.0
PRODID:-//Tukios.com/
BEGIN:VEVENT
UID:8c4ed771-1895-4647-9711-3e0e53772122@www.molthenbell.com
DTSTAMP:20260424T095920Z
DTSTART:20260424T200000Z
DTEND:20260424T220000Z
SUMMARY:Visitation
DESCRIPTION:
URL:https://www.molthenbell.com/obituaries/albert-metz
LOCATION:Molthen-Bell Funeral Home 700 Milwaukee Avenue  South Milwaukee 
	WI 53172
GEO:42.910819;-87.855188
END:VEVENT
END:VCALENDAR