BEGIN:VCALENDAR
VERSION:2.0
PRODID:-//Tukios.com/
BEGIN:VEVENT
UID:f82cd1a6-23e5-4ead-86bc-d79d3d540729@www.molthenbell.com
DTSTAMP:20260424T100430Z
DTSTART:20260424T220000Z
DTEND:20260424T230000Z
SUMMARY:Funeral Service
DESCRIPTION:
URL:https://www.molthenbell.com/obituaries/albert-metz
LOCATION:Molthen-Bell Funeral Home 700 Milwaukee Avenue  South Milwaukee 
	WI 53172
GEO:42.910819;-87.855188
END:VEVENT
END:VCALENDAR